BEGIN:VCALENDAR
VERSION:2.0
PRODID:EVENTFROG//EVENT//ICAL
BEGIN:VEVENT
UID:20260419T175336Z-7439293472123684269@eventfrog.ch
DTSTAMP:20260419T175336Z
DTSTART:20260425T070000Z
DTEND:20260425T160000Z
SUMMARY:Mit Kind und Kegel
DESCRIPTION:Kleingruppen von mindestens 5 Personen erhalten ermäßigten Eintritt.\n\nhttps://eventfrog.ch/de/p/diverses/mit-kind-und-kegel-7439293472123684269.html
LOCATION:Erlebnispark Tripdrill
GEO:49.030324;9.051413
URL:https://eventfrog.ch/de/p/diverses/mit-kind-und-kegel-7439293472123684269.html
END:VEVENT
END:VCALENDAR