BEGIN:VCALENDAR
VERSION:2.0
PRODID:EVENTFROG//EVENT//ICAL
BEGIN:VEVENT
UID:20260424T075627Z-7439688880138264262@eventfrog.ch
DTSTAMP:20260424T075627Z
DTSTART:20260605T120000Z
DTEND:20260605T150000Z
SUMMARY:Kunsthandwerkerin im Museum
DESCRIPTION:Kunsthandwerkerin im Museum\n\nhttps://eventfrog.ch/de/p/wissenschaft-und-technik/kunsthandwerkerin-im-museum-7439688880138264262.html
LOCATION:Museum Appenzell
GEO:47.330788;9.408760
URL:https://eventfrog.ch/de/p/wissenschaft-und-technik/kunsthandwerkerin-im-museum-7439688880138264262.html
END:VEVENT
END:VCALENDAR