BEGIN:VCALENDAR
VERSION:2.0
PRODID:EVENTFROG//EVENT//ICAL
BEGIN:VEVENT
UID:20260419T170542Z-7439991399729119357@eventfrog.ch
DTSTAMP:20260419T170542Z
DTSTART:20260507T170000Z
SUMMARY:Ätherische Öle für Tiere, Diplomausbildung Tieraromatherapie
DESCRIPTION:Online-Ausbildung Tieraromatherapie: Tauche ein in die Welt der ätherischen Öle für Tiere mit praxisnahen Übungen und TAT-Zertifikat. Flexibel & herstellerunabhängig.\n\nhttps://eventfrog.ch/de/p/kurse-seminare/berufliche-bildung/aetherische-oele-fuer-tiere-diplomausbildung-tieraromatherapie-7439991399729119357.html
LOCATION:Evénements en ligne
URL:https://eventfrog.ch/de/p/kurse-seminare/berufliche-bildung/aetherische-oele-fuer-tiere-diplomausbildung-tieraromatherapie-7439991399729119357.html
END:VEVENT
END:VCALENDAR