BEGIN:VCALENDAR
VERSION:2.0
PRODID:EVENTFROG//EVENT//ICAL
BEGIN:VEVENT
UID:20260420T074640Z-7440823315214681978@eventfrog.ch
DTSTAMP:20260420T074640Z
DTSTART:20260509T180000Z
DTEND:20260510T000000Z
SUMMARY:FireFestival Nellingen
DESCRIPTION:«Die Live-Nacht» mit Hits von den 70ern bis heute, Partyband JUST FOR FUN und grosse Bar garantiert Stimmung bis in den Morgen.\n\nhttps://eventfrog.ch/de/p/partys/pop-rock/firefestival-nellingen-7440823315214681978.html
LOCATION:FireFestival Nellingen
GEO:48.715512;9.289572
URL:https://eventfrog.ch/de/p/partys/pop-rock/firefestival-nellingen-7440823315214681978.html
END:VEVENT
END:VCALENDAR