BEGIN:VCALENDAR
VERSION:2.0
PRODID:EVENTFROG//EVENT//ICAL
BEGIN:VEVENT
UID:20260424T064917Z-7441083472972645168@eventfrog.ch
DTSTAMP:20260424T064917Z
DTSTART:20260507T160000Z
DTEND:20260508T013000Z
SUMMARY:Waldfest 2026 "around the world"
DESCRIPTION:Kommt vorbei für Speis und Trank, genauso wie tolle Aktivitäten und Unterhaltung. Bringt eure Freunde mit und geniesst einen unvergesslichen Abend.\n\nhttps://eventfrog.ch/de/p/essen-trinken/waldfest-2026-around-the-world-7441083472972645168.html
LOCATION:Länggassstrasse 120
GEO:46.956430;7.427135
URL:https://eventfrog.ch/de/p/essen-trinken/waldfest-2026-around-the-world-7441083472972645168.html
END:VEVENT
END:VCALENDAR