BEGIN:VCALENDAR
VERSION:2.0
PRODID:EVENTFROG//EVENT//ICAL
BEGIN:VEVENT
UID:20260426T010430Z-7441482023342974762@eventfrog.ch
DTSTAMP:20260426T010430Z
DTSTART:20260501T173000Z
DTEND:20260501T190000Z
SUMMARY:Solo-Abenteuer durch Afrika / Vortrag von Sandra Wüthrich
DESCRIPTION:Sandra Wüthrich – Solo-Abenteuer durch Afrika: 25 Länder, ein Velo und unzählige Geschichten\n\nhttps://eventfrog.ch/de/p/fuehrungen-vortraege/vortrag/solo-abenteuer-durch-afrika-vortrag-von-sandra-wuethrich-7441482023342974762.html
LOCATION:Reformiertes Kirchgemeindehaus Utzenstorf
GEO:47.125670;7.555076
URL:https://eventfrog.ch/de/p/fuehrungen-vortraege/vortrag/solo-abenteuer-durch-afrika-vortrag-von-sandra-wuethrich-7441482023342974762.html
END:VEVENT
END:VCALENDAR