BEGIN:VCALENDAR
VERSION:2.0
PRODID:EVENTFROG//EVENT//ICAL
BEGIN:VEVENT
UID:20260424T183647Z-7443061522299879737@eventfrog.ch
DTSTAMP:20260424T183647Z
DTSTART:20260426T080000Z
DTEND:20260426T150000Z
SUMMARY:EIN TAG FÜR DIE SEELE
DESCRIPTION:Nahrung für die Seele - Hariharānanda führt am  26.4 in Orsingen durch  Meditation und Yoga zu innerer Ruhe und stellt verschiedene spirituelle Praktiken vor. Mach eine eigene Erfahrung. \n\nhttps://eventfrog.ch/de/p/gesundheit-spiritualitaet/spiritualitaet/ein-tag-fuer-die-seele-7443061522299879737.html
LOCATION:Zentrum The White Horse
GEO:47.840161;8.933707
URL:https://eventfrog.ch/de/p/gesundheit-spiritualitaet/spiritualitaet/ein-tag-fuer-die-seele-7443061522299879737.html
END:VEVENT
END:VCALENDAR