BEGIN:VCALENDAR
VERSION:2.0
PRODID:EVENTFROG//EVENT//ICAL
BEGIN:VEVENT
UID:20260420T064720Z-7445007658606695909@eventfrog.ch
DTSTAMP:20260420T064720Z
DTSTART:20260502T190000Z
SUMMARY:Monochrome die Wave Party
DESCRIPTION:Dark Side of the Eighties\n\nhttps://eventfrog.ch/de/p/partys/gothic-wave/monochrome-die-wave-party-7445007658606695909.html
LOCATION:Utopia-Disco-Club
GEO:47.389672;8.052063
URL:https://eventfrog.ch/de/p/partys/gothic-wave/monochrome-die-wave-party-7445007658606695909.html
END:VEVENT
END:VCALENDAR