BEGIN:VCALENDAR
VERSION:2.0
PRODID:EVENTFROG//EVENT//ICAL
BEGIN:VEVENT
UID:20260419T150613Z-7445086127831162393@eventfrog.ch
DTSTAMP:20260419T150613Z
DTSTART:20260531T123000Z
DTEND:20260531T153000Z
SUMMARY:Athro Rhimo - Filmvorführung Grenchen SO
DESCRIPTION:Eine Sängerin entdeckt in der assyrischen Heimat Heilung für ihren Sohn und eine neue Lebenschance nach Schicksalsschlägen.\n\nhttps://eventfrog.ch/de/p/diverses/athro-rhimo-filmvorfuehrung-grenchen-so-7445086127831162393.html
LOCATION:Athro Rhimo - Filmvorführungen Grenchen SO
GEO:47.191687;7.394538
URL:https://eventfrog.ch/de/p/diverses/athro-rhimo-filmvorfuehrung-grenchen-so-7445086127831162393.html
END:VEVENT
END:VCALENDAR