BEGIN:VCALENDAR
VERSION:2.0
PRODID:EVENTFROG//EVENT//ICAL
BEGIN:VEVENT
UID:20260425T190515Z-7445164106154250982@eventfrog.ch
DTSTAMP:20260425T190515Z
DTSTART:20260426T090000Z
DTEND:20260426T130000Z
SUMMARY:Dorftrödel in Linnich-Floßdorf
DESCRIPTION:Finde alte und neue Schätze auf dem Dorftrödel in Floßdorf bei Linnich. Mit zusätzlichem Angebot von Kaffee und Kuchen in der alten Dorfschule (Kneipe). \n\nhttps://eventfrog.ch/de/p/maerkte/flohmarkt/dorftroedel-in-linnich-flossdorf-7445164106154250982.html
LOCATION:Floßdorf
GEO:50.957573;6.286439
URL:https://eventfrog.ch/de/p/maerkte/flohmarkt/dorftroedel-in-linnich-flossdorf-7445164106154250982.html
END:VEVENT
END:VCALENDAR