BEGIN:VCALENDAR
VERSION:2.0
PRODID:EVENTFROG//EVENT//ICAL
BEGIN:VEVENT
UID:20260425T154256Z-7445169014551087041@eventfrog.ch
DTSTAMP:20260425T154256Z
DTSTART:20260426T083000Z
DTEND:20260426T113000Z
SUMMARY:Athro Rhimo - Filmvorführung Sargans SG
DESCRIPTION:Eine Sängerin entdeckt in der assyrischen Heimat Heilung für ihren Sohn und eine neue Lebenschance nach Schicksalsschlägen.\n\nhttps://eventfrog.ch/de/p/diverses/athro-rhimo-filmvorfuehrung-sargans-sg-7445169014551087041.html
LOCATION:Athro Rhimo - Filmvorführungen Sargans SG
GEO:47.045423;9.442065
URL:https://eventfrog.ch/de/p/diverses/athro-rhimo-filmvorfuehrung-sargans-sg-7445169014551087041.html
END:VEVENT
END:VCALENDAR