BEGIN:VCALENDAR
VERSION:2.0
PRODID:EVENTFROG//EVENT//ICAL
BEGIN:VEVENT
UID:20260424T154303Z-7445455446889004932@eventfrog.ch
DTSTAMP:20260424T154303Z
DTSTART:20260524T090000Z
DTEND:20260524T140000Z
SUMMARY:CUPFINAL SLO vs. FCSG  - PUBLIC VIEWING WAAGHAUS-ARENA / 16+
DESCRIPTION:PUBLIC VIEWING CUPFINAL\nStade-Lausanne-Ouchy vs. FC St. Gallen\nÜbertragung auf 2 Grossleinwänden und mehreren TV-Bildschirmen\nZutritt ab 16 Jahren – unter 16 Jahren nur in Begleitung einer erwachsenen\n\nhttps://eventfrog.ch/de/p/sport-fitness/public-viewing/cupfinal-slo-vs-fcsg-public-viewing-waaghaus-arena-16-7445455446889004932.html
LOCATION:Waaghaus St. Gallen
GEO:47.426293;9.377490
URL:https://eventfrog.ch/de/p/sport-fitness/public-viewing/cupfinal-slo-vs-fcsg-public-viewing-waaghaus-arena-16-7445455446889004932.html
END:VEVENT
END:VCALENDAR