BEGIN:VCALENDAR
VERSION:2.0
PRODID:EVENTFROG//EVENT//ICAL
BEGIN:VEVENT
UID:20260424T051552Z-7445465952781610200@eventfrog.ch
DTSTAMP:20260424T051552Z
DTSTART:20260424T070000Z
DTEND:20260424T081500Z
SUMMARY:Breathwork: Vater/- Männerwunde heilen
DESCRIPTION:Die Breathwork-Session heilt emotionale Vaterwunden und fördert Selbstwert, Vertrauen und gelassene Beziehung zu Vater/Partner.\n\nhttps://eventfrog.ch/de/p/gesundheit-spiritualitaet/gesundheit-wohlbefinden/breathwork-vater-maennerwunde-heilen-7445465952781610200.html
LOCATION:Online
URL:https://eventfrog.ch/de/p/gesundheit-spiritualitaet/gesundheit-wohlbefinden/breathwork-vater-maennerwunde-heilen-7445465952781610200.html
END:VEVENT
END:VCALENDAR