BEGIN:VCALENDAR
VERSION:2.0
PRODID:EVENTFROG//EVENT//ICAL
BEGIN:VEVENT
UID:20260419T155225Z-7445814919834896848@eventfrog.ch
DTSTAMP:20260419T155225Z
DTSTART:20260424T153000Z
DTEND:20260424T183000Z
SUMMARY:Stein-Schnecken
DESCRIPTION:Du gestaltest zwei Schnecken aus eigenen Steinen unter Anleitung am 24. April in Golaten, 17.30-20.30 Uhr.\n\nhttps://eventfrog.ch/de/p/kurse-seminare/freizeit-hobby/stein-schnecken-7445814919834896848.html
LOCATION:Verena Zimmermann
GEO:46.986203;7.243989
URL:https://eventfrog.ch/de/p/kurse-seminare/freizeit-hobby/stein-schnecken-7445814919834896848.html
END:VEVENT
END:VCALENDAR