BEGIN:VCALENDAR
VERSION:2.0
PRODID:EVENTFROG//EVENT//ICAL
BEGIN:VEVENT
UID:20260424T051557Z-7446580840920809429@eventfrog.ch
DTSTAMP:20260424T051557Z
DTSTART:20260614T120000Z
DTEND:20260614T210000Z
SUMMARY:Der gemischte Sonntag
DESCRIPTION:Die Orangerie ist am 14.6.2026 von 14 bis 23 Uhr geöffnet, die Küche bedient bis 20:30 Uhr.\n\nhttps://eventfrog.ch/de/p/partys/mottoparty/der-gemischte-sonntag-7446580840920809429.html
LOCATION:Orangerie Le Club
GEO:47.492088;8.978016
URL:https://eventfrog.ch/de/p/partys/mottoparty/der-gemischte-sonntag-7446580840920809429.html
END:VEVENT
END:VCALENDAR