BEGIN:VCALENDAR
VERSION:2.0
PRODID:EVENTFROG//EVENT//ICAL
BEGIN:VEVENT
UID:20260419T152751Z-7447190556730513143@eventfrog.ch
DTSTAMP:20260419T152751Z
DTSTART:20260523T173000Z
SUMMARY:Kultur im Alten Kino / Bongladen x Dirty Dwarfs
DESCRIPTION:Low light. Loud amps. Heavy minds.\n\nBONGLADEN (Heilbronn) x DIRTY DWARFS (Bamberg)\nHeavy Psychedelic • Stoner Rock'n'Roll\n\nAltes Kino Gaustadt\n23.05.2026  Doors 19:00  Eintritt fre\n\nhttps://eventfrog.ch/de/p/konzerte/weitere-musikrichtungen/kultur-im-alten-kino-bongladen-x-dirty-dwarfs-7447190556730513143.html
LOCATION:Kultur im alten Kino
GEO:49.903991;10.861927
URL:https://eventfrog.ch/de/p/konzerte/weitere-musikrichtungen/kultur-im-alten-kino-bongladen-x-dirty-dwarfs-7447190556730513143.html
END:VEVENT
END:VCALENDAR