BEGIN:VCALENDAR
VERSION:2.0
PRODID:EVENTFROG//EVENT//ICAL
BEGIN:VEVENT
UID:20260420T013429Z-7448027958537635250@eventfrog.ch
DTSTAMP:20260420T013429Z
DTSTART:20260626T050000Z
DTEND:20260626T053500Z
SUMMARY:The Winters & The Summers
DESCRIPTION:Frühkonzerte FRAK 2026\nMusik in Pfäffikon\n\nhttps://eventfrog.ch/de/p/konzerte/weitere-musikrichtungen/the-winters-the-summers-7448027958537635250.html
LOCATION:Atelier Dati
GEO:47.365930;8.787137
URL:https://eventfrog.ch/de/p/konzerte/weitere-musikrichtungen/the-winters-the-summers-7448027958537635250.html
END:VEVENT
END:VCALENDAR