BEGIN:VCALENDAR
VERSION:2.0
PRODID:EVENTFROG//EVENT//ICAL
BEGIN:VEVENT
UID:20260419T170543Z-7448263759317988724@eventfrog.ch
DTSTAMP:20260419T170543Z
DTSTART:20260504T070000Z
DTEND:20260731T140000Z
SUMMARY:IPMA Level C/B/A Zertifizierung Projektmanagement
DESCRIPTION:Zertifizierung für Projektmanager nach IPMA Richtlinien; Kurs vermittelt Projektmanagementkompetenzen; inkl. Coaching, Reviews und Interviewtraining.\n\nhttps://eventfrog.ch/de/p/kurse-seminare/berufliche-bildung/ipma-level-c-b-a-zertifizierung-projektmanagement-7448263759317988724.html
LOCATION:E-Learning
URL:https://eventfrog.ch/de/p/kurse-seminare/berufliche-bildung/ipma-level-c-b-a-zertifizierung-projektmanagement-7448263759317988724.html
END:VEVENT
END:VCALENDAR