BEGIN:VCALENDAR
VERSION:2.0
PRODID:EVENTFROG//EVENT//ICAL
BEGIN:VEVENT
UID:20260420T013417Z-7448756545360263541@eventfrog.ch
DTSTAMP:20260420T013417Z
DTSTART:20260509T180000Z
DTEND:20260510T010000Z
SUMMARY:Maifest Jungbürger 2007
DESCRIPTION:Start: 20:00 Uhr\nEnde: 03:00\nWo: Mehrzweckhalle Kappel SO\nEintritt ab 16 Jahren, Ausweiskontrolle\n\nhttps://eventfrog.ch/de/p/partys/disco/maifest-jungbuerger-2007-7448756545360263541.html
LOCATION:Mehrzweckhalle, Kappel
GEO:47.326088;7.850111
URL:https://eventfrog.ch/de/p/partys/disco/maifest-jungbuerger-2007-7448756545360263541.html
END:VEVENT
END:VCALENDAR