BEGIN:VCALENDAR
VERSION:2.0
PRODID:EVENTFROG//EVENT//ICAL
BEGIN:VEVENT
UID:20260425T155827Z-7448841840713819691@eventfrog.ch
DTSTAMP:20260425T155827Z
DTSTART:20260426T080000Z
DTEND:20260426T130000Z
SUMMARY:Frühlingsmarkt in Zweedorf
DESCRIPTION:Am 26.4. von 10–15 Uhr gibt es ein Familienevent mit Flohmarkt, Kunsthandwerk, Speis & Trank sowie Kinderattraktionen.\n\nhttps://eventfrog.ch/de/p/maerkte/flohmarkt/fruehlingsmarkt-in-zweedorf-7448841840713819691.html
LOCATION:Annika Rusu
GEO:53.432441;10.631188
URL:https://eventfrog.ch/de/p/maerkte/flohmarkt/fruehlingsmarkt-in-zweedorf-7448841840713819691.html
END:VEVENT
END:VCALENDAR