BEGIN:VCALENDAR
VERSION:2.0
PRODID:EVENTFROG//EVENT//ICAL
BEGIN:VEVENT
UID:20260420T071520Z-7449081081268034520@eventfrog.ch
DTSTAMP:20260420T071520Z
DTSTART:20260523T190000Z
DTEND:20260524T000000Z
SUMMARY:Rocknacht mit DJ Mogli
DESCRIPTION:Rocknacht mit DJ Mogli: Energiegeladene Rockmusik mit fetten Riffs und ehrlichen Texten. Fans von Volbeat, Rammstein, Metallica, Iron Maiden und Lacuna Coil werden begeistert sein! \n\nhttps://eventfrog.ch/de/p/partys/pop-rock/rocknacht-mit-dj-mogli-7449081081268034520.html
LOCATION:Belinda Discothek
GEO:49.004142;9.496766
URL:https://eventfrog.ch/de/p/partys/pop-rock/rocknacht-mit-dj-mogli-7449081081268034520.html
END:VEVENT
END:VCALENDAR