BEGIN:VCALENDAR
VERSION:2.0
PRODID:EVENTFROG//EVENT//ICAL
BEGIN:VEVENT
UID:20260420T073418Z-7449083337375769227@eventfrog.ch
DTSTAMP:20260420T073418Z
DTSTART:20260519T190000Z
DTEND:20260519T233000Z
SUMMARY:Tuesday Rock in der Belinda mit DJ Marcus!
DESCRIPTION:Der Belinda Dienstag mit Classic Rock der 70er kehrt nach langer Pause zurück und lädt zum Feiern ein.\n\nhttps://eventfrog.ch/de/p/partys/pop-rock/tuesday-rock-in-der-belinda-mit-dj-marcus-7449083337375769227.html
LOCATION:Belinda Discothek
GEO:49.004142;9.496766
URL:https://eventfrog.ch/de/p/partys/pop-rock/tuesday-rock-in-der-belinda-mit-dj-marcus-7449083337375769227.html
END:VEVENT
END:VCALENDAR