BEGIN:VCALENDAR
VERSION:2.0
PRODID:EVENTFROG//EVENT//ICAL
BEGIN:VEVENT
UID:20260420T073004Z-7449083636391922620@eventfrog.ch
DTSTAMP:20260420T073004Z
DTSTART:20260526T190000Z
DTEND:20260526T233000Z
SUMMARY:Tuesday Rock in der Belinda mit DJ Dirk!
DESCRIPTION:Der legendäre Belinda Dienstag mit Classic Rock aus den 70ern ist endlich wieder da! Kommt zahlreich und feiert mit verschiedenen DJs.\n\nhttps://eventfrog.ch/de/p/partys/pop-rock/tuesday-rock-in-der-belinda-mit-dj-dirk-7449083636391922620.html
LOCATION:Belinda Discothek
GEO:49.004142;9.496766
URL:https://eventfrog.ch/de/p/partys/pop-rock/tuesday-rock-in-der-belinda-mit-dj-dirk-7449083636391922620.html
END:VEVENT
END:VCALENDAR