BEGIN:VCALENDAR
VERSION:2.0
PRODID:EVENTFROG//EVENT//ICAL
BEGIN:VEVENT
UID:20260419T163407Z-7449404444347746547@eventfrog.ch
DTSTAMP:20260419T163407Z
DTSTART:20260425T080000Z
DTEND:20260425T140000Z
SUMMARY:TAG DER GESUNDHEIT im PurNatur Kempten
DESCRIPTION:Am 25. April findet im PurNatur in Kempten der Tag der Gesundheit statt. Eine Veranstaltung mit Verkostungen & Beratung zu Themen wie Darmgesundheit, Longevity oder Ernährung für Kleinkinder.\n\nhttps://eventfrog.ch/de/p/diverses/tag-der-gesundheit-im-purnatur-kempten-7449404444347746547.html
LOCATION:PurNatur
GEO:47.722269;10.316231
URL:https://eventfrog.ch/de/p/diverses/tag-der-gesundheit-im-purnatur-kempten-7449404444347746547.html
END:VEVENT
END:VCALENDAR