BEGIN:VCALENDAR
VERSION:2.0
PRODID:EVENTFROG//EVENT//ICAL
BEGIN:VEVENT
UID:20260419T140814Z-7449470556770989029@eventfrog.ch
DTSTAMP:20260419T140814Z
DTSTART:20260627T080000Z
DTEND:20260627T200000Z
SUMMARY:Kick4Kids & Viva Latino – Fussballturnier & Kulturfestival T
DESCRIPTION:Im Lachenstadion Thun findet ein zweitägiges Festival mit Fussballturnier und lateinamerikanischem Kulturprogramm für alle statt.\n\nhttps://eventfrog.ch/de/p/diverses/kick4kids-viva-latino-fussballturnier-kulturfestival-t-7449470556770989029.html
LOCATION:Lachenstadion Thun
GEO:46.738425;7.627710
URL:https://eventfrog.ch/de/p/diverses/kick4kids-viva-latino-fussballturnier-kulturfestival-t-7449470556770989029.html
END:VEVENT
END:VCALENDAR