BEGIN:VCALENDAR
VERSION:2.0
PRODID:EVENTFROG//EVENT//ICAL
BEGIN:VEVENT
UID:20260425T004216Z-7449484298392973614@eventfrog.ch
DTSTAMP:20260425T004216Z
DTSTART:20260425T170000Z
SUMMARY:Chicos On Fire! - Live
DESCRIPTION:Chicos on Fire bieten Acoustic-Cover-Rock zum Mitsingen im MTV-unplugged-Stil.\n\nhttps://eventfrog.ch/de/p/konzerte/pop-rock/chicos-on-fire-live-7449484298392973614.html
LOCATION:Lokvogel Kulturkneipe
GEO:51.374402;7.757871
URL:https://eventfrog.ch/de/p/konzerte/pop-rock/chicos-on-fire-live-7449484298392973614.html
END:VEVENT
END:VCALENDAR