BEGIN:VCALENDAR
VERSION:2.0
PRODID:EVENTFROG//EVENT//ICAL
BEGIN:VEVENT
UID:20260424T051556Z-7449789438576608121@eventfrog.ch
DTSTAMP:20260424T051556Z
DTSTART:20260504T054500Z
DTEND:20260504T070000Z
SUMMARY:Kraftvolle Yoga-Session Schwägalp
DESCRIPTION:Erleben Sie einen Moment für sich bei der morgendlichen Yoga-Session inmitten der Natur. Gönnen Sie sich eine Auszeit für Körper & Geist auf der Schwägalp.\n\n\nhttps://eventfrog.ch/de/p/sport-fitness/yoga/kraftvolle-yoga-session-schwaegalp-7449789438576608121.html
LOCATION:Säntis – das Hotel
GEO:47.265336;9.324824
URL:https://eventfrog.ch/de/p/sport-fitness/yoga/kraftvolle-yoga-session-schwaegalp-7449789438576608121.html
END:VEVENT
END:VCALENDAR