BEGIN:VCALENDAR
VERSION:2.0
PRODID:EVENTFROG//EVENT//ICAL
BEGIN:VEVENT
UID:20260419T175109Z-7449800336074636614@eventfrog.ch
DTSTAMP:20260419T175109Z
DTSTART:20260426T080000Z
DTEND:20260426T140000Z
SUMMARY:Frühlingsfest mit Camper Ausstellung und Oldtimertreffen
DESCRIPTION:Am 25.04.2026  Camping Ausstellung und am 26.04.2026 Oldtimertreffen\n\nhttps://eventfrog.ch/de/p/diverses/fruehlingsfest-mit-camper-ausstellung-und-oldtimertreffen-7449800336074636614.html
LOCATION:Waldshuter Str. 14
GEO:47.628022;8.265242
URL:https://eventfrog.ch/de/p/diverses/fruehlingsfest-mit-camper-ausstellung-und-oldtimertreffen-7449800336074636614.html
END:VEVENT
END:VCALENDAR