BEGIN:VCALENDAR
VERSION:2.0
PRODID:EVENTFROG//EVENT//ICAL
BEGIN:VEVENT
UID:20260420T082622Z-7449824470578014646@eventfrog.ch
DTSTAMP:20260420T082622Z
DTSTART:20260613T110000Z
DTEND:20260613T210000Z
SUMMARY:Fight Night
DESCRIPTION:Am 13.06.2026 kämpfen in Wiesendangen über 30 Amateure und die Profis LETAIEF Seifeddine und ANDAY Nahom um Sieg und Ehre.\n\nhttps://eventfrog.ch/en/p/sport-fitness/boxing/fight-night-7449824470578014646.html
LOCATION:Wisenthalle
GEO:47.522498;8.790223
URL:https://eventfrog.ch/en/p/sport-fitness/boxing/fight-night-7449824470578014646.html
END:VEVENT
END:VCALENDAR