BEGIN:VCALENDAR
VERSION:2.0
PRODID:EVENTFROG//EVENT//ICAL
BEGIN:VEVENT
UID:20260424T072130Z-7449839158745410236@eventfrog.ch
DTSTAMP:20260424T072130Z
DTSTART:20260429T180000Z
DTEND:20260429T213000Z
SUMMARY:Tropical Sunset: Afterworkly
DESCRIPTION:Escape into a Tropical Sunset Afterworkly  at theCo! \n\nhttps://eventfrog.ch/en/p/parties/afterwork/tropical-sunset-afterworkly-7449839158745410236.html
LOCATION:theCO
GEO:47.428053;9.374866
URL:https://eventfrog.ch/en/p/parties/afterwork/tropical-sunset-afterworkly-7449839158745410236.html
END:VEVENT
END:VCALENDAR