BEGIN:VCALENDAR
VERSION:2.0
PRODID:EVENTFROG//EVENT//ICAL
BEGIN:VEVENT
UID:20260426T034216Z-7449870855356557066@eventfrog.ch
DTSTAMP:20260426T034216Z
DTSTART:20260430T170000Z
SUMMARY:Tanz in den Mai - Der St. Hubertus Schützen Friesheim
DESCRIPTION:Am 30. April lädt die St. Hubertus Schützenbruderschaft Friesheim zum Tanz in den Mai mit Musik, Cocktails und Grill auf den Schützenplatz.\n\nhttps://eventfrog.ch/de/p/partys/sonstige-partys/tanz-in-den-mai-der-st-hubertus-schuetzen-friesheim-7449870855356557066.html
LOCATION:Christian-Dahmen-Straße
GEO:50.760241;6.773892
URL:https://eventfrog.ch/de/p/partys/sonstige-partys/tanz-in-den-mai-der-st-hubertus-schuetzen-friesheim-7449870855356557066.html
END:VEVENT
END:VCALENDAR