BEGIN:VCALENDAR
VERSION:2.0
PRODID:EVENTFROG//EVENT//ICAL
BEGIN:VEVENT
UID:20260424T075558Z-7449885403618793623@eventfrog.ch
DTSTAMP:20260424T075558Z
DTSTART:20260614T120000Z
DTEND:20260614T140000Z
SUMMARY:L-danse Spectacle 2026
DESCRIPTION:Spectacle de danse \nL-danse présente Resto'Scène\n\nhttps://eventfrog.ch/fr/p/divers/l-danse-spectacle-2026-7449885403618793623.html
LOCATION:CO Sarine Ouest
GEO:46.784888;7.076136
URL:https://eventfrog.ch/fr/p/divers/l-danse-spectacle-2026-7449885403618793623.html
END:VEVENT
END:VCALENDAR