BEGIN:VCALENDAR
VERSION:2.0
PRODID:EVENTFROG//EVENT//ICAL
BEGIN:VEVENT
UID:20260425T152114Z-7449939007373336229@eventfrog.ch
DTSTAMP:20260425T152114Z
DTSTART:20260516T200000Z
SUMMARY:Hits don't lie
DESCRIPTION:Hits don't lie\n\nhttps://eventfrog.ch/de/p/partys/hits-don-t-lie-7449939007373336229.html
LOCATION:Kraftfeld
GEO:47.494890;8.718069
URL:https://eventfrog.ch/de/p/partys/hits-don-t-lie-7449939007373336229.html
END:VEVENT
END:VCALENDAR