BEGIN:VCALENDAR
VERSION:2.0
PRODID:EVENTFROG//EVENT//ICAL
BEGIN:VEVENT
UID:20260425T210111Z-7450097915874253147@eventfrog.ch
DTSTAMP:20260425T210111Z
DTSTART:20260617T070000Z
DTEND:20260617T083000Z
SUMMARY:Büchermorgen
DESCRIPTION:Anregende Gespräche über Bücher. Interessierte sind herzlich willkommen. Eine Anmeldung ist nicht erforderlich. Dieses Mal sprechen wir über Georgi Gospodinovs Buch "Der Gärtner und der Tod".\n\nhttps://eventfrog.ch/de/p/diverses/buechermorgen-7450097915874253147.html
LOCATION:Regionalbibliothek Affoltern
GEO:47.277639;8.446184
URL:https://eventfrog.ch/de/p/diverses/buechermorgen-7450097915874253147.html
END:VEVENT
END:VCALENDAR