BEGIN:VCALENDAR
VERSION:2.0
PRODID:EVENTFROG//EVENT//ICAL
BEGIN:VEVENT
UID:20260420T020456Z-7450099446010875513@eventfrog.ch
DTSTAMP:20260420T020456Z
DTSTART:20260423T170000Z
SUMMARY:Das Grüne Band - Vom Todesstreifen zur Lebenslinie / Vortrag
DESCRIPTION:Prof. Dr. Kai Frobel zur Entstehung, Gegenwart und Zukunft des "Grünen Bandes"\n\nhttps://eventfrog.ch/de/p/fuehrungen-vortraege/vortrag/das-gruene-band-vom-todesstreifen-zur-lebenslinie-vortrag-7450099446010875513.html
LOCATION:Deutsch-Deutsches Museum Mödlareuth
GEO:50.412630;11.882681
URL:https://eventfrog.ch/de/p/fuehrungen-vortraege/vortrag/das-gruene-band-vom-todesstreifen-zur-lebenslinie-vortrag-7450099446010875513.html
END:VEVENT
END:VCALENDAR