BEGIN:VCALENDAR
VERSION:2.0
PRODID:EVENTFROG//EVENT//ICAL
BEGIN:VEVENT
UID:20260424T064955Z-7450138281608505939@eventfrog.ch
DTSTAMP:20260424T064955Z
DTSTART:20260506T163000Z
DTEND:20260506T200000Z
SUMMARY:Brun del Ré
DESCRIPTION:Eine Reise in die Welt aussergewöhnlicher Zigarren.\n\nhttps://eventfrog.ch/de/p/essen-trinken/brun-del-re-7450138281608505939.html
LOCATION:Das Scherzhaus
GEO:46.923498;7.414655
URL:https://eventfrog.ch/de/p/essen-trinken/brun-del-re-7450138281608505939.html
END:VEVENT
END:VCALENDAR