BEGIN:VCALENDAR
VERSION:2.0
PRODID:EVENTFROG//EVENT//ICAL
BEGIN:VEVENT
UID:20260425T141034Z-7450155570156299554@eventfrog.ch
DTSTAMP:20260425T141034Z
DTSTART:20260516T080000Z
DTEND:20260920T150000Z
SUMMARY:Sonderausstellung «Spuren – Fährten, Frass und Federn»
DESCRIPTION:Die Sonderausstellung «Spuren – Fährten, Frass und Federn» bietet eine Ausstellung mit interaktiven Stationen zum Spurenlesen und zur Entdeckung der Natur.\n\nhttps://eventfrog.ch/de/p/diverses/sonderausstellung-spuren-faehrten-frass-und-federn-7450155570156299554.html
LOCATION:Naturmuseum St. Gallen
GEO:47.439470;9.408700
URL:https://eventfrog.ch/de/p/diverses/sonderausstellung-spuren-faehrten-frass-und-federn-7450155570156299554.html
END:VEVENT
END:VCALENDAR