BEGIN:VCALENDAR
VERSION:2.0
PRODID:EVENTFROG//EVENT//ICAL
BEGIN:VEVENT
UID:20260420T072759Z-7450174967793121067@eventfrog.ch
DTSTAMP:20260420T072759Z
DTSTART:20260523T200000Z
SUMMARY:Guter Alter Hip-Hop mit JJC
DESCRIPTION:DJ JJC legt Classic Hip-Hop auf und lädt zum Tanzen ein. Tickets kosten 12  an der Abendkasse.\n\nhttps://eventfrog.ch/de/p/partys/hip-hop-rap/guter-alter-hip-hop-mit-jjc-7450174967793121067.html
LOCATION:Industriehof Schenke - Walzensaal
GEO:49.327717;8.448600
URL:https://eventfrog.ch/de/p/partys/hip-hop-rap/guter-alter-hip-hop-mit-jjc-7450174967793121067.html
END:VEVENT
END:VCALENDAR