BEGIN:VCALENDAR
VERSION:2.0
PRODID:EVENTFROG//EVENT//ICAL
BEGIN:VEVENT
UID:20260424T082916Z-7450182641771406181@eventfrog.ch
DTSTAMP:20260424T082916Z
DTSTART:20260530T080000Z
DTEND:20260530T090000Z
SUMMARY:Power Yoga: Emotions & the Menstrual Cycle with Amélie
DESCRIPTION:Amélie Bertschy führt in einer Yoga-Session durch Bewegung und Achtsamkeit, um Emotionen und den Menstruationszyklus zu erforschen.\n\nhttps://eventfrog.ch/en/p/sport-fitness/yoga/power-yoga-emotions-the-menstrual-cycle-with-amelie-7450182641771406181.html
LOCATION:Labör
GEO:47.410852;8.538635
URL:https://eventfrog.ch/en/p/sport-fitness/yoga/power-yoga-emotions-the-menstrual-cycle-with-amelie-7450182641771406181.html
END:VEVENT
END:VCALENDAR