BEGIN:VCALENDAR
VERSION:2.0
PRODID:EVENTFROG//EVENT//ICAL
BEGIN:VEVENT
UID:20260424T063614Z-7450303517963619994@eventfrog.ch
DTSTAMP:20260424T063614Z
DTSTART:20260511T173000Z
SUMMARY:Dorian Green
DESCRIPTION:Dorian Green\n\nhttps://eventfrog.ch/de/p/konzerte/dorian-green-7450303517963619994.html
LOCATION:Portier
GEO:47.495799;8.718806
URL:https://eventfrog.ch/de/p/konzerte/dorian-green-7450303517963619994.html
END:VEVENT
END:VCALENDAR