BEGIN:VCALENDAR
VERSION:2.0
PRODID:EVENTFROG//EVENT//ICAL
BEGIN:VEVENT
UID:20260420T071520Z-7450449807070480719@eventfrog.ch
DTSTAMP:20260420T071520Z
DTSTART:20260502T130000Z
DTEND:20260502T170000Z
SUMMARY:Annemie Lieder - Ausstellung
DESCRIPTION:Die Aargauer Künstlerin Annemie Lieder hat das Auge für Unscheinbares, Nebensächliches. Und rückt das behutsam ins Zentrum ihres Schaffens.  Ihre Kunst ist nicht plakativ, sondern poetisch.\n\nhttps://eventfrog.ch/de/p/kunst-ausstellungen/ausstellung/annemie-lieder-ausstellung-7450449807070480719.html
LOCATION:Kunstforum Sursee
GEO:47.172078;8.109937
URL:https://eventfrog.ch/de/p/kunst-ausstellungen/ausstellung/annemie-lieder-ausstellung-7450449807070480719.html
END:VEVENT
END:VCALENDAR