BEGIN:VCALENDAR
VERSION:2.0
PRODID:EVENTFROG//EVENT//ICAL
BEGIN:VEVENT
UID:20260419T144524Z-7450482432120243465@eventfrog.ch
DTSTAMP:20260419T144524Z
DTSTART:20260531T150000Z
DTEND:20260531T170000Z
SUMMARY:Festkonzert 75 Jahre LLO im Gewandhaus
DESCRIPTION:Das Leipziger Lehrerorchester feiert 75 Jahre und 40 Jahre Dirigent Meissner mit Mozart, Liszt, Brahms, Boulanger, Dietze und Solistin Charlotte Steppes im Gewandhaus.\n\nhttps://eventfrog.ch/de/p/klassik-opern/klassik/festkonzert-75-jahre-llo-im-gewandhaus-7450482432120243465.html
LOCATION:Großer Saal im Gewandhaus
GEO:51.337715;12.381158
URL:https://eventfrog.ch/de/p/klassik-opern/klassik/festkonzert-75-jahre-llo-im-gewandhaus-7450482432120243465.html
END:VEVENT
END:VCALENDAR