BEGIN:VCALENDAR
VERSION:2.0
PRODID:EVENTFROG//EVENT//ICAL
BEGIN:VEVENT
UID:20260424T140836Z-7450512309112337423@eventfrog.ch
DTSTAMP:20260424T140836Z
DTSTART:20260801T180000Z
DTEND:20260802T010000Z
SUMMARY:Brandlöschparty
DESCRIPTION:Am 01.08. lädt die Feuerwehr Langweid von 20 bis 3 Uhr zu Party mit DJ Spirit, Pulled Pork Burgern und spektakulären Skybeamern ein.\n\nhttps://eventfrog.ch/de/p/partys/cocktailparty/brandloeschparty-7450512309112337423.html
LOCATION:Feuerwehrhaus Langweid
GEO:48.493347;10.856713
URL:https://eventfrog.ch/de/p/partys/cocktailparty/brandloeschparty-7450512309112337423.html
END:VEVENT
END:VCALENDAR