BEGIN:VCALENDAR
VERSION:2.0
PRODID:EVENTFROG//EVENT//ICAL
BEGIN:VEVENT
UID:20260420T041001Z-7450517733005909343@eventfrog.ch
DTSTAMP:20260420T041001Z
DTSTART:20270416T080000Z
DTEND:20270416T140000Z
SUMMARY:17. Jobmesse Berlin - erster Messetag
DESCRIPTION:Die Jobmesse Berlin im Olympiastadion bietet direkten Kontakt zu Arbeitgebern für Karrieremöglichkeiten in Ausbildung, Studium oder Job. \n\nhttps://eventfrog.ch/de/p/messen/messe/17-jobmesse-berlin-erster-messetag-7450517733005909343.html
LOCATION:Olympiastadion Berlin
GEO:52.514702;13.239467
URL:https://eventfrog.ch/de/p/messen/messe/17-jobmesse-berlin-erster-messetag-7450517733005909343.html
END:VEVENT
END:VCALENDAR