BEGIN:VCALENDAR
VERSION:2.0
PRODID:EVENTFROG//EVENT//ICAL
BEGIN:VEVENT
UID:20260424T064909Z-7450523901853996797@eventfrog.ch
DTSTAMP:20260424T064909Z
DTSTART:20261003T200000Z
SUMMARY:ECLIPSE
DESCRIPTION:ECLIPSE – SAVE THE DATE: 03.10.2026! GET YOUR BLIND TICKET NOW BIG ANNOUNCEMENT SOON!\n\nhttps://eventfrog.ch/de/p/partys/trance-ambient/eclipse-7450523901853996797.html
LOCATION:Druckerei Solothurn
GEO:47.203211;7.539529
URL:https://eventfrog.ch/de/p/partys/trance-ambient/eclipse-7450523901853996797.html
END:VEVENT
END:VCALENDAR