BEGIN:VCALENDAR
VERSION:2.0
PRODID:EVENTFROG//EVENT//ICAL
BEGIN:VEVENT
UID:20260419T175337Z-7450538030341857514@eventfrog.ch
DTSTAMP:20260419T175337Z
DTSTART:20260423T160000Z
DTEND:20260423T173000Z
SUMMARY:Über Wasser… aus der Pfütze
DESCRIPTION:Mirja Busch, Ignacio Farías und Thomas Nehls diskutieren mit Julia Vismann über die Pfütze als urbanen Mikrokosmos und Lebensraum.\n\nhttps://eventfrog.ch/de/p/fuehrungen-vortraege/vortrag/ueber-wasser-aus-der-pfuetze-7450538030341857514.html
LOCATION:Humboldt Forum
GEO:52.517275;13.401640
URL:https://eventfrog.ch/de/p/fuehrungen-vortraege/vortrag/ueber-wasser-aus-der-pfuetze-7450538030341857514.html
END:VEVENT
END:VCALENDAR