BEGIN:VCALENDAR
VERSION:2.0
PRODID:EVENTFROG//EVENT//ICAL
BEGIN:VEVENT
UID:20260424T051559Z-7450566480045801518@eventfrog.ch
DTSTAMP:20260424T051559Z
DTSTART:20260507T163000Z
DTEND:20260507T180000Z
SUMMARY:Workshop - Functional Yoga mit Resistance Band
DESCRIPTION:Workshop für den gezielten Aufbau von Kraft, Stabilität und Flexibilität in deiner Mitte als Ergänzung für deine Yoga Asana Praxis. \n\nhttps://eventfrog.ch/de/p/sport-fitness/yoga/workshop-functional-yoga-mit-resistance-band-7450566480045801518.html
LOCATION:Ayursana Ganzheitliche Gesundheit
GEO:47.323163;9.087194
URL:https://eventfrog.ch/de/p/sport-fitness/yoga/workshop-functional-yoga-mit-resistance-band-7450566480045801518.html
END:VEVENT
END:VCALENDAR