BEGIN:VCALENDAR
VERSION:2.0
PRODID:EVENTFROG//EVENT//ICAL
BEGIN:VEVENT
UID:20260420T071458Z-7450630021889136109@eventfrog.ch
DTSTAMP:20260420T071458Z
DTSTART:20260905T173000Z
DTEND:20260905T200000Z
SUMMARY:Openair Musical: Nenn' mich einfach Mo
DESCRIPTION:Ein wundervoller multimedialer Musicalabend! \n\n\n\nhttps://eventfrog.ch/de/p/musicals-shows/musical/openair-musical-nenn-mich-einfach-mo-7450630021889136109.html
LOCATION:Aula Schule Schöftland
GEO:47.306503;8.051248
URL:https://eventfrog.ch/de/p/musicals-shows/musical/openair-musical-nenn-mich-einfach-mo-7450630021889136109.html
END:VEVENT
END:VCALENDAR