BEGIN:VCALENDAR
VERSION:2.0
PRODID:EVENTFROG//EVENT//ICAL
BEGIN:VEVENT
UID:20260420T005613Z-7450651884761648615@eventfrog.ch
DTSTAMP:20260420T005613Z
DTSTART:20260621T150000Z
SUMMARY:Rhapsody in Blue mit den Bläsersolisten Aargau
DESCRIPTION:Johannes Friedemann und die Bläsersolisten Aargau spielen Gershwins Rhapsody in Blue und weitere Werke von Maurice Ravel und Paul Juon\n\nhttps://eventfrog.ch/de/p/klassik-opern/klassik/rhapsody-in-blue-mit-den-blaesersolisten-aargau-7450651884761648615.html
LOCATION:Aula Alte Kantonsschule Aarau
GEO:47.393351;8.053197
URL:https://eventfrog.ch/de/p/klassik-opern/klassik/rhapsody-in-blue-mit-den-blaesersolisten-aargau-7450651884761648615.html
END:VEVENT
END:VCALENDAR