BEGIN:VCALENDAR
VERSION:2.0
PRODID:EVENTFROG//EVENT//ICAL
BEGIN:VEVENT
UID:20260419T150613Z-7450836093686001664@eventfrog.ch
DTSTAMP:20260419T150613Z
DTSTART:20260426T150000Z
SUMMARY:2nd Show – "Anthony" Movie – GRENCHEN
DESCRIPTION:«Anthony» zeigt die Familiengeschichte aus Jaffna / Sri Lanka, musikalisch begleitet von Ilaiyaraaja, in Tamil mit Untertiteln.\n\nhttps://eventfrog.ch/de/p/freizeit-ausfluege/film-kino/2nd-show-anthony-movie-grenchen-7450836093686001664.html
LOCATION:Kino Palace
GEO:47.193766;7.395888
URL:https://eventfrog.ch/de/p/freizeit-ausfluege/film-kino/2nd-show-anthony-movie-grenchen-7450836093686001664.html
END:VEVENT
END:VCALENDAR